BEGIN:VCALENDAR
VERSION:2.0
PRODID:-//MLP//ical//EN
TIMEZONE-ID:Europe/Berlin
X-WR-TIMEZONE:Europe/Berlin
BEGIN:VEVENT
UID:xevg@events.mlp.de
SEQUENCE:0
DTSTAMP:20260425T125348Z
DTSTART:20260529T110000Z
DTEND:20260529T130000Z
SUMMARY:Career Entry Webinar
DESCRIPTION:Zur An-/Abmeldung und weiteren Informationen:\nevents.mlp.de/e
 vents/dhbuxm28ao/career-entry-webinar
END:VEVENT
END:VCALENDAR